BEGIN:VCALENDAR
VERSION:2.0
PRODID:-//artifica.one//Rémuzat//FR
CALSCALE:GREGORIAN
METHOD:PUBLISH
BEGIN:VEVENT
SUMMARY:Bal des pompiers
UID:3104
SEQUENCE:0
STATUS:CONFIRMED
TRANSP:TRANSPARENT
DTSTART:20250714T060000Z
DTEND:20250714T180000Z
DTSTAMP:20250709T220845Z

LOCATION:Pompiers
 Quartier les Faysses
 26510 Rémuzat 
GEO:44.415085;5.358413
DESCRIPTION:
URL:https://www.remuzat.fr/agenda/bal-des-pompiers-3104
END:VEVENT
END:VCALENDAR
