BEGIN:VCALENDAR
VERSION:2.0
PRODID:-//artifica.one//Rémuzat//FR
CALSCALE:GREGORIAN
METHOD:PUBLISH
BEGIN:VEVENT
SUMMARY:Itinéraire artistique
UID:1421
SEQUENCE:0
STATUS:CONFIRMED
TRANSP:TRANSPARENT
DTSTART:20230527T060000Z
DTEND:20230529T180000Z
DTSTAMP:20230521T142637Z
CATEGORIES:Culture
DESCRIPTION:
URL:https://www.remuzat.fr/agenda/itineraire-artistique-1421
END:VEVENT
END:VCALENDAR
